Workbook

Sheet Cost Estimate
B1: Project Cost Estimate | D1: =NOW() -> 46220.683
B2: US 17/92 Cost Estimate
B5: PAY ITEM NUMBER | C5: ITEM | D5: UNIT | E5: PROJECT QUANTITY | F5: UNIT COST* | G5: ESTIMATED COST
I6: Calculation
B7: ='Unit Costs'!G6 -> 104-10-3 | C7: ='Unit Costs'!B6 -> Sediment Barrier (Silt Fence) | D7: ='Unit Costs'!C6 -> LF | E7: 38500 | F7: ='Unit Costs'!F6 -> 3.16 | G7: =ROUNDUP((E7*F7),-3) -> 122000 | I7: =(2*19340*1.1)-(2*2335) -> 37878
B8: ='Unit Costs'!G7 -> 104-11 | C8: ='Unit Costs'!B7 -> Floating Turbidity Barrier | D8: ='Unit Costs'!C7 -> LF | E8: 5200 | F8: ='Unit Costs'!F7 -> 6.61 | G8: =ROUNDUP((E8*F8),-3) -> 35000 | I8: =2335*2*1.1 -> 5137
B9: ='Unit Costs'!G8 -> 104-12 | C9: ='Unit Costs'!B8 -> Staked Turbidity Barrier - Nyl Reinf PVC | D9: ='Unit Costs'!C8 -> LF | E9: 5200 | F9: ='Unit Costs'!F8 -> 9.33 | G9: =ROUNDUP((E9*F9),-3) -> 49000 | I9: =2335*2*1.1 -> 5137
B10: ='Unit Costs'!G9 -> 104-15 | C10: ='Unit Costs'!B9 -> Soil Tracking Prevention Device | D10: ='Unit Costs'!C9 -> EA | E10: 13 | F10: ='Unit Costs'!F9 -> 4316.03 | G10: =ROUNDUP((E10*F10),-3) -> 57000 | I10: 13
B11: ='Unit Costs'!G10 -> 104-18 | C11: ='Unit Costs'!B10 -> Inlet Protection System | D11: ='Unit Costs'!C10 -> EA | E11: 250 | F11: ='Unit Costs'!F10 -> 166.53 | G11: =ROUNDUP((E11*F11),-3) -> 42000 | I11: =I29 -> 242
B12: ='Unit Costs'!G11 -> 107-1 | C12: ='Unit Costs'!B11 -> Litter Removal | D12: ='Unit Costs'!C11 -> AC | E12: 100 | F12: ='Unit Costs'!F11 -> 26.86 | G12: =ROUNDUP((E12*F12),-3) -> 3000 | I12: =I14 -> 98.635721
B13: ='Unit Costs'!G12 -> 107-2 | C13: ='Unit Costs'!B12 -> Mowing | D13: ='Unit Costs'!C12 -> AC | E13: 100 | F13: ='Unit Costs'!F12 -> 34.19 | G13: =ROUNDUP((E13*F13),-3) -> 4000 | I13: =I14 -> 98.635721
B14: ='Unit Costs'!G13 -> 110-1-1 | C14: ='Unit Costs'!B13 -> Clearing and Grubbing (includes trees) | D14: ='Unit Costs'!C13 -> AC | E14: 100 | F14: ='Unit Costs'!F13 -> 48194.96 | G14: =ROUNDUP((E14*F14),-3) -> 4820000 | H14: =4296572 -> 4296572 | I14: =H14/43560 -> 98.635721
B15: ='Unit Costs'!G14 -> 110-3 | C15: ='Unit Costs'!B14 -> Removal of Existing Structures/Bridges | D15: ='Unit Costs'!C14 -> SF | E15: 12500 | F15: ='Unit Costs'!F14 -> 57.26 | G15: =ROUNDUP((E15*F15),-3) -> 716000 | I15: 12448.44
B16: ='Unit Costs'!G15 -> 120-1 | C16: ='Unit Costs'!B15 -> Regular Excavation | D16: ='Unit Costs'!C15 -> CY | E16: 350000 | F16: ='Unit Costs'!F15 -> 6.93 | G16: =ROUNDUP((E16*F16),-3) -> 2426000 | I16: =(((220593+645066+6104+995)*2*1/27)*1.5)+(48400+24200+9680+96800+16133.33+48400) -> 340586.44
B17: ='Unit Costs'!G16 -> 120-4 | C17: ='Unit Costs'!B16 -> Subsoil Excavation | D17: ='Unit Costs'!C16 -> CY | E17: 20000 | F17: ='Unit Costs'!F16 -> 21.3 | G17: =ROUNDUP((E17*F17),-3) -> 426000 | I17: 20000
B18: ='Unit Costs'!G17 -> 120-6 | C18: ='Unit Costs'!B17 -> Embankment | D18: ='Unit Costs'!C17 -> CY | E18: 215000 | F18: ='Unit Costs'!F17 -> 8.96 | G18: =ROUNDUP((E18*F18),-3) -> 1927000 | I18: =((220593+645066+6104+995)*4*1/27)+((29128+13798+47326+70984+86419)*(2+1)*2/27)+((386+13788+13287+287+21938+10940+49566+78310+2630+1510+515+932+1631+1641+3423+24844+33225+5074)*2*1/27)*1.4 -> 211702.13
B19: ='Unit Costs'!G18 -> 160-4 | C19: ='Unit Costs'!B18 -> Type B Stabilization | D19: ='Unit Costs'!C18 -> SY | E19: 284600 | F19: ='Unit Costs'!F18 -> 6.28 | G19: =ROUNDUP((E19*F19),-3) -> 1788000 | H19: =1053491+408949+(343000-259000)*8 -> 2134440 | I19: =(H19/9)*1.2 -> 284592
B20: ='Unit Costs'!G19 -> 285-709 | C20: ='Unit Costs'!B19 -> Optional Base, Base Group 09 | D20: ='Unit Costs'!C19 -> SY | E20: 226000 | F20: ='Unit Costs'!F19 -> 24.08 | G20: =ROUNDUP((E20*F20),-3) -> 5443000 | H20: =254336+768316+(343000-259000)*8 -> 1694652 | I20: =(H20/9)*1.2 -> 225953.6
B21: ='Unit Costs'!G20 -> 327-70-6 | C21: ='Unit Costs'!B20 -> Milling Existing Asphalt Pavement, 1.5" Avg Depth | D21: ='Unit Costs'!C20 -> SY | E21: 75000 | F21: ='Unit Costs'!F20 -> 2.61 | G21: =ROUNDUP((E21*F21),-3) -> 196000 | I21: =(5459+67762+5481+477640)/9*1.2 -> 74178.933
B22: ='Unit Costs'!G21 -> 334-1-13 | C22: ='Unit Costs'!B21 -> Superpave Asphaltic Concrete, Traffic C | D22: ='Unit Costs'!C21 -> TN | E22: 16300 | F22: ='Unit Costs'!F21 -> 140.13 | G22: =ROUNDUP((E22*F22),-3) -> 2285000 | H22: =220594+698807-116740+(343000-259000)*8 -> 1474661 | I22: =((165/2000)*(H22/9))*1.2 -> 16221.271
B23: ='Unit Costs'!G22 -> 337-7-83 | C23: ='Unit Costs'!B22 -> Superpave Asphaltic Concrete Friction Course, Traffic C, FC-12.5, PG 76-22 | D23: ='Unit Costs'!C22 -> TN | E23: 16300 | F23: ='Unit Costs'!F22 -> 158.59 | G23: =ROUNDUP((E23*F23),-3) -> 2586000 | I23: =((165/2000)*(H22/9)*1.2) -> 16221.271
B24: ='Unit Costs'!G23 -> 400-0-11 | C24: ='Unit Costs'!B23 -> Concrete Class NS, Gravity Wall Index 400-011 | D24: ='Unit Costs'!C23 -> CY | E24: 4550 | F24: ='Unit Costs'!F23 -> 922.9 | G24: =ROUNDUP((E24*F24),-3) -> 4200000 | H24: =5890+817+170+57 -> 6934 | I24: =(H24*0.65) -> 4507.1
B25: ='Unit Costs'!G24 -> 400-2-10 | C25: ='Unit Costs'!B24 -> Concrete Class II, Approach Slabs | D25: ='Unit Costs'!C24 -> CY | E25: 125 | F25: ='Unit Costs'!F24 -> 998.6 | G25: =ROUNDUP((E25*F25),-3) -> 125000 | I25: 119.27
B26: ='Unit Costs'!G25 -> 400-4-1 | C26: ='Unit Costs'!B25 -> Concrete Class IV, Culverts | D26: ='Unit Costs'!C25 -> CY | E26: 65 | F26: ='Unit Costs'!F25 -> 1873.55 | G26: =ROUNDUP((E26*F26),-3) -> 122000 | I26: 61
B27: ='Unit Costs'!G26 -> 415-1-1 | C27: ='Unit Costs'!B26 -> Reinf Steel - Roadway | D27: ='Unit Costs'!C26 -> LB | E27: 7000 | F27: ='Unit Costs'!F26 -> 1.39 | G27: =ROUNDUP((E27*F27),-3) -> 10000 | I27: 6975.93
B28: ='Unit Costs'!G27 -> 415-1-9 | C28: ='Unit Costs'!B27 -> Reinf Steel - Approach Slabs | D28: ='Unit Costs'!C27 -> LB | E28: 21000 | F28: ='Unit Costs'!F27 -> 1.45 | G28: =ROUNDUP((E28*F28),-3) -> 31000 | I28: 20872.25
B29: ='Unit Costs'!G28 -> 425-1-361 | C29: ='Unit Costs'!B28 -> Inlets, Curb, Type P-6, <10' | D29: ='Unit Costs'!C28 -> EA | E29: 250 | F29: ='Unit Costs'!F28 -> 9933.62 | G29: =ROUNDUP((E29*F29),-3) -> 2484000 | I29: 242
B30: ='Unit Costs'!G29 -> 425-1-541 | C30: ='Unit Costs'!B29 -> Inlets, Ditch Bottom, Type D, <10' | D30: ='Unit Costs'!C29 -> EA | E30: 6 | F30: ='Unit Costs'!F29 -> 7367.27 | G30: =ROUNDUP((E30*F30),-3) -> 45000 | I30: 6
B31: ='Unit Costs'!G31 -> 430-175-124 | C31: ='Unit Costs'!B31 -> Pipe Culvert, Opt Matl, Round, 24" S/CD | D31: ='Unit Costs'!C31 -> LF | E31: 21400 | F31: ='Unit Costs'!F31 -> 122.61 | G31: =ROUNDUP((E31*F31),-3) -> 2624000 | H31: 10680 | I31: =H31*2 -> 21360
B32: ='Unit Costs'!G32 -> 430-175-130 | C32: ='Unit Costs'!B32 -> Pipe Culvert, Opt Matl, Round, 30" S/CD | D32: ='Unit Costs'!C32 -> LF | E32: 4600 | F32: ='Unit Costs'!F32 -> 167.86 | G32: =ROUNDUP((E32*F32),-3) -> 773000 | H32: 2300 | I32: =H32*2 -> 4600
B33: ='Unit Costs'!G33 -> 430-175-136 | C33: ='Unit Costs'!B33 -> Pipe Culvert, Opt Matl, Round, 36" S/CD | D33: ='Unit Costs'!C33 -> LF | E33: 2200 | F33: ='Unit Costs'!F33 -> 202.26 | G33: =ROUNDUP((E33*F33),-3) -> 445000 | H33: 1100 | I33: =H33*2 -> 2200
B34: ='Unit Costs'!G34 -> 430-175-142 | C34: ='Unit Costs'!B34 -> Pipe Culvert, Opt Matl, Round, 42" S/CD | D34: ='Unit Costs'!C34 -> LF | E34: 2000 | F34: ='Unit Costs'!F34 -> 217.93 | G34: =ROUNDUP((E34*F34),-3) -> 436000 | H34: 1000 | I34: =H34*2 -> 2000
B35: ='Unit Costs'!G35 -> 430-175-160 | C35: ='Unit Costs'!B35 -> Pipe Culvert, Opt Matl, Round, 60" S/CD | D35: ='Unit Costs'!C35 -> LF | E35: 200 | F35: ='Unit Costs'!F35 -> 489.33 | G35: =ROUNDUP((E35*F35),-3) -> 98000 | H35: 100 | I35: =H35*2 -> 200
B36: ='Unit Costs'!G36 -> 430-984-129 | C36: ='Unit Costs'!B36 -> Mitered End Section, F&I, 24" SD | D36: ='Unit Costs'!C36 -> EA | E36: 45 | F36: ='Unit Costs'!F36 -> 3439.63 | G36: =ROUNDUP((E36*F36),-3) -> 155000 | H36: 30 | I36: =H36*1.5 -> 45
B37: ='Unit Costs'!G37 -> 515-2-111 | C37: ='Unit Costs'!B37 -> Ped/Bicycle Railing, NS, 42" Type 1 | D37: ='Unit Costs'!C37 -> LF | E37: 12000 | F37: ='Unit Costs'!F37 -> 82.46 | G37: =ROUNDUP((E37*F37),-3) -> 990000 | H37: =10920+817+170+57 -> 11964 | I37: =10920+817+170+57 -> 11964
B38: ='Unit Costs'!G38 -> 520-1-7 | C38: ='Unit Costs'!B38 -> Concrete Curb & Gutter, Type E | D38: ='Unit Costs'!C38 -> LF | E38: 29000 | F38: ='Unit Costs'!F38 -> 36.9 | G38: =ROUNDUP((E38*F38),-3) -> 1071000 | H38: =4404+1307+1242+2075+13509+81+81+3506 -> 26205 | I38: =H38*1.1 -> 28825.5
B39: ='Unit Costs'!G39 -> 520-1-10 | C39: ='Unit Costs'!B39 -> Concrete Curb & Gutter, Type F | D39: ='Unit Costs'!C39 -> LF | E39: 33500 | F39: ='Unit Costs'!F39 -> 40.29 | G39: =ROUNDUP((E39*F39),-3) -> 1350000 | H39: =570+1711+541+558+593+2697+1037+7477+9418+194+322+326+613+1784+309+191+88+1801 -> 30230 | I39: =H39*1.1 -> 33253
B40: ='Unit Costs'!G40 -> 520-2-4 | C40: ='Unit Costs'!B40 -> Concrete Curb, Type D | D40: ='Unit Costs'!C40 -> LF | E40: 0 | F40: ='Unit Costs'!F40 -> 43.14 | G40: =ROUNDUP((E40*F40),-3) -> 0 | I40: 0
B41: ='Unit Costs'!G41 -> 520-2-8 | C41: ='Unit Costs'!B41 -> Concrete Curb, Type RA | D41: ='Unit Costs'!C41 -> LF | E41: 0 | F41: ='Unit Costs'!F41 -> 47.32 | G41: =ROUNDUP((E41*F41),-3) -> 0 | I41: 0
B42: ='Unit Costs'!G42 -> 520-5-11 | C42: ='Unit Costs'!B42 -> Traffic Separator, 4' Wide | D42: ='Unit Costs'!C42 -> LF | E42: 0 | F42: ='Unit Costs'!F42 -> 74.52 | G42: =ROUNDUP((E42*F42),-3) -> 0 | I42: 0
...

Sheet Unit Costs
B1: Unit Cost Breakdown
H3: Notes:
B4: ITEM | C4: UNIT | D4: Area 8 Unit Cost (Statewide if Area not available) | E4: Statewide Unit Cost | F4: Unit Cost Used | G4: FDOT Item ID
A6: =G6 -> 104-10-3 | B6: Sediment Barrier (Silt Fence) | C6: LF | D6: 2.92 | E6: 3.16 | F6: =E6 -> 3.16 | G6: 104-10-3 | H6: Current 12 Month Moving Statewide Average (6/01/2025 - 5/31/2026)
A7: =G7 -> 104-11 | B7: Floating Turbidity Barrier | C7: LF | D7: 16.13 | E7: 6.61 | F7: =E7 -> 6.61 | G7: 104-11 | H7: Current 12 Month Moving Statewide Average (6/01/2025 - 5/31/2026)
A8: =G8 -> 104-12 | B8: Staked Turbidity Barrier - Nyl Reinf PVC | C8: LF | D8: 7.11 | E8: 9.33 | F8: =E8 -> 9.33 | G8: 104-12 | H8: Current 12 Month Moving Statewide Average (6/01/2025 - 5/31/2026)
A9: =G9 -> 104-15 | B9: Soil Tracking Prevention Device | C9: EA | D9: 5050.84 | E9: 4316.03 | F9: =E9 -> 4316.03 | G9: 104-15 | H9: Current 12 Month Moving Statewide Average (6/01/2025 - 5/31/2026)
A10: =G10 -> 104-18 | B10: Inlet Protection System | C10: EA | D10: 151.95 | E10: 166.53 | F10: =E10 -> 166.53 | G10: 104-18 | H10: Current 12 Month Moving Statewide Average (6/01/2025 - 5/31/2026)
A11: =G11 -> 107-1 | B11: Litter Removal | C11: AC | D11: 35.3 | E11: 26.86 | F11: =E11 -> 26.86 | G11: 107-1 | H11: Current 12 Month Moving Statewide Average (6/01/2025 - 5/31/2026)
A12: =G12 -> 107-2 | B12: Mowing | C12: AC | D12: 52.16 | E12: 34.19 | F12: =E12 -> 34.19 | G12: 107-2 | H12: Current 12 Month Moving Statewide Average (6/01/2025 - 5/31/2026)
A13: =G13 -> 110-1-1 | B13: Clearing and Grubbing (includes trees) | C13: AC | D13: 29365.77 | E13: 48194.96 | F13: =E13 -> 48194.96 | G13: 110-1-1 | H13: Current 12 Month Moving Statewide Average (6/01/2025 - 5/31/2026)
A14: =G14 -> 110-3 | B14: Removal of Existing Structures/Bridges | C14: SF | D14: 74.27 | E14: 57.26 | F14: =E14 -> 57.26 | G14: 110-3 | H14: Current 12 Month Moving Statewide Average (6/01/2025 - 5/31/2026)
A15: =G15 -> 120-1 | B15: Regular Excavation | C15: CY | D15: 8.77 | E15: 6.93 | F15: =E15 -> 6.93 | G15: 120-1 | H15: Current 12 Month Moving Statewide Average (6/01/2025 - 5/31/2026)
A16: =G16 -> 120-4 | B16: Subsoil Excavation | C16: CY | D16: 12.87 | E16: 21.3 | F16: =E16 -> 21.3 | G16: 120-4 | H16: Current 12 Month Moving Statewide Average (6/01/2025 - 5/31/2026)
A17: =G17 -> 120-6 | B17: Embankment | C17: CY | D17: 10.67 | E17: 8.96 | F17: =E17 -> 8.96 | G17: 120-6 | H17: Current 12 Month Moving Statewide Average (6/01/2025 - 5/31/2026)
... A53: =G53 -> 550-10-220 | B53: Fencing, Type B, 5.1-6.0', Standard | C53: LF | D53: 19.48 | E53: 21.54 | F53: =E53 -> 21.54 | G53: 550-10-220 | H53: Current 12 Month Moving Statewide Average (6/01/2025 - 5/31/2026)
A54: =G54 -> 550-60-234 | B54: Fence Gate, Typ B, Slide/Cant, 18.1-20' Open | C54: EA | D54: 5000 | F54: =D54 -> 5000 | G54: 550-60-234 | H54: Current 12 Month Moving Areawide Average (6/01/2025 - 5/31/2026)
A55: =G55 -> 570-1-1 | B55: Performance Turf | C55: SY | D55: 4.03 | E55: 2.11 | F55: =E55 -> 2.11 | G55: 570-1-1 | H55: Current 12 Month Moving Statewide Average (6/01/2025 - 5/31/2026)
A56: =G56 -> 630-2-11 | B56: Conduit, F&I, Open Trench | C56: LF | D56: 20.27 | E56: 16.08 | F56: =E56 -> 16.08 | G56: 630-2-11 | H56: Current 12 Month Moving Statewide Average (6/01/2025 - 5/31/2026)
A57: =G57 -> 630-2-12 | B57: Conduit, F&I, Directional Bore | C57: LF | D57: 42.41 | E57: 38.26 | F57: =E57 -> 38.26 | G57: 630-2-12 | H57: Current 12 Month Moving Statewide Average (6/01/2025 - 5/31/2026)
A58: =G58 -> 630-2-15 | B58: Conduit, F&I, Bridge Mount | C58: LF | D58: 76.28 | E58: 65.58 | F58: =E58 -> 65.58 | G58: 630-2-15 | H58: Current 12 Month Moving Statewide Average (6/01/2025 - 5/31/2026)
A59: =G59 -> 632-7-1 | B59: Signal Cable - New or Reconstructed Intersection, F&I | C59: PI | D59: 11619.02 | E59: 11445.79 | F59: =E59 -> 11445.79 | G59: 632-7-1 | H59: Current 12 Month Moving Statewide Average (6/01/2025 - 5/31/2026)
A60: =G60 -> 633-1-121 | B60: Fiber Optic Cable, F&I, UG 2-12 | C60: LF | D60: 5.15 | E60: 4.72 | F60: =E60 -> 4.72 | G60: 633-1-121 | H60: Current 12 Month Moving Statewide Average (6/01/2025 - 5/31/2026)
A61: =G61 -> 633-1-122 | B61: Fiber Optic Cable, F&I, UG 13-48 | C61: LF | D61: 4.23 | E61: 4.39 | F61: =E61 -> 4.39 | G61: 633-1-122 | H61: Current 12 Month Moving Statewide Average (6/01/2025 - 5/31/2026)
A62: =G62 -> 633-1-123 | B62: Fiber Optic Cable, F&I, UG 49-96 | C62: LF | D62: 4.85 | E62: 5.81 | F62: =E62 -> 5.81 | G62: 633-1-123 | H62: Current 12 Month Moving Statewide Average (6/01/2025 - 5/31/2026)
A63: =G63 -> 633-1-124 | B63: Fiber Optic Cable, F&I, UG 97-144 | C63: LF | D63: 6.14 | E63: 5.61 | F63: =E63 -> 5.61 | G63: 633-1-124 | H63: Current 12 Month Moving Statewide Average (6/01/2025 - 5/31/2026)
A64: =G64 -> 633-2-31 | B64: Fiber Optic Connection, Install, Splice | C64: EA | D64: 65.18 | E64: 57.84 | F64: =E64 -> 57.84 | G64: 633-2-31 | H64: Current 12 Month Moving Statewide Average (6/01/2025 - 5/31/2026)
A65: =G65 -> 633-3-11 | B65: Fiber Optic Connection, Hdwr, Splice Enclosure | C65: EA | D65: 1769.64 | E65: 1672.36 | F65: =E65 -> 1672.36 | G65: 633-3-11 | H65: Current 12 Month Moving Statewide Average (6/01/2025 - 5/31/2026)
A66: =G66 -> 633-3-15 | B66: Fiber Optic Connection, Hdwr, Preterm Patch Pan | C66: EA | D66: 2276.09 | E66: 2392.07 | F66: =E66 -> 2392.07 | G66: 633-3-15 | H66: Current 12 Month Moving Statewide Average (6/01/2025 - 5/31/2026)
... A83: =G83 -> 654-3-10 | B83: Mid: Pedestrian Hybrid Beacon, F&I, Comp | C83: EA | D83: 2400 | E83: 2326.17 | F83: =E83 -> 2326.17 | G83: 654-3-10 | H83: Current 12 Month Moving Statewide Average (6/01/2025 - 5/31/2026)
A84: =G84 -> 660-1-102 | B84: Loop Detector Inductive, F&I, Type 9 | C84: EA | E84: 384.27 | F84: =E84 -> 384.27 | G84: 660-1-102 | H84: Current 12 Month Moving Statewide Average (6/01/2025 - 5/31/2026)
A85: =G85 -> 660-2-102 | B85: Loop Assembly, F&I, Type B | C85: EA | D85: 1695.25 | E85: 1796.13 | F85: =E85 -> 1796.13 | G85: 660-2-102 | H85: Current 12 Month Moving Statewide Average (6/01/2025 - 5/31/2026)
A86: =G86 -> 660-2-106 | B86: Loop Assembly, F&I, Type F | C86: EA | D86: 1971.39 | E86: 2093.2 | F86: =E86 -> 2093.2 | G86: 660-2-106 | H86: Current 12 Month Moving Statewide Average (6/01/2025 - 5/31/2026)
A87: =G87 -> 660-4-11 | B87: Vehicle Detection System - Video, F&I Cabinet Equipment | C87: EA | D87: 23551.67 | E87: 11486.12 | F87: =E87 -> 11486.12 | G87: 660-4-11 | H87: Current 12 Month Moving Statewide Average (6/01/2025 - 5/31/2026)
A88: =G88 -> 660-4-12 | B88: Vehicle Detection System - Video, F&I Above Ground Equipment | C88: EA | D88: 8141.64 | E88: 7174.42 | F88: =E88 -> 7174.42 | G88: 660-4-12 | H88: Current 12 Month Moving Statewide Average (6/01/2025 - 5/31/2026)
A89: =G89 -> 663-1-122 | B89: Signal Priority and Preemption System, F&I, GPS, Detector | C89: EA | D89: 9493.89 | E89: 9022.73 | F89: =E89 -> 9022.73 | G89: 663-1-122 | H89: Current 12 Month Moving Statewide Average (6/01/2025 - 5/31/2026)
A90: =G90 -> 665-1-11 | B90: Pedestrian Detector, F&I, Standard | C90: EA | D90: 514.75 | E90: 458.7 | F90: =E90 -> 458.7 | G90: 665-1-11 | H90: Current 12 Month Moving Statewide Average (6/01/2025 - 5/31/2026)
A91: =G91 -> 670-5-111 | B91: Traffic Controller Assembly, F&I, NEMA, 1 Preemption | C91: EA | D91: 50719.59 | E91: 42313 | F91: =E91 -> 42313 | G91: 670-5-111 | H91: Current 12 Month Moving Statewide Average (6/01/2025 - 5/31/2026)
A92: =G92 -> 676-2-111 | B92: ITS Cabinet - F&I, Pole, 336 | C92: EA | E92: 14019.5 | F92: =E92 -> 14019.5 | G92: 676-2-111 | H92: Current 12 Month Moving Statewide Average (6/01/2025 - 5/31/2026)
A93: =G93 -> 682-1-113 | B93: ITS CCTV Camera, F&I, Dome Encl - Press | C93: EA | D93: 7548.97 | E93: 7630.85 | F93: =E93 -> 7630.85 | G93: 682-1-113 | H93: Current 12 Month Moving Statewide Average (6/01/2025 - 5/31/2026)
...

Sheet Sheet1
J2: Pond 3 | N2: Pond 4
D3: MISC PVT | J3: Begin | K3: End | L3: LF | N3: Begin | O3: End | P3: LF | Q3: Plus 75' from EOP to pond bottom | U3: Plus 60' from Lt EOP to Rt Eop Crossing
D4: 2400 | I4: LT | J4: 25900 | K4: 30100 | L4: =K4-J4 -> 4200 | N4: 33300 | O4: 34600 | P4: =O4-N4 -> 1300 | S4: Pond 3 L | T4: Pond 3 R | U4: Pond 4 L | V4: Pond 4 R
D5: 2400 | I5: RT | J5: 30500 | K5: 33300 | L5: =K5-J5 -> 2800 | N5: 35000 | O5: 35900 | P5: =O5-N5 -> 900 | R5: 24 | S5: =1700+850+60+1250+60+1100+60 -> 5080 | T5: =1400+1250+60+650+60 -> 3420 | U5: =1000+250+60+250+60 -> 1620 | V5: =250+250+60 -> 560 | X5: =SUM(S5:V5) -> 10680
D6: 2250 | R6: 30 | S6: 1000 | T6: 1100 | U6: 100 | V6: 100 | X6: =SUM(S6:V6) -> 2300
D7: 2250 | R7: 36 | S7: 1000 | T7: 100 | X7: =SUM(S7:V7) -> 1100
D8: 2250 | R8: 42 | S8: 1000 | X8: =SUM(S8:V8) -> 1000
D9: 2250 | R9: 48 | S9: 100 | X9: =SUM(S9:V9) -> 100
D10: 2700 | R10: 60 | X10: =SUM(S10:V10) -> 0
D11: 2400
D12: 2850
D13: 1500
D14: 1200
D15: 1350
D16: 1350
D17: 1800
D18: 2230
D19: 2342
D20: 2550
D21: 2550
D22: 2250
... D30: 2850
D31: =SUM(D4:D30) -> 61572
D32: =D31/(26*300) -> 7.8938462 | F32: low points | G32: 26
G33: =G32*3*2 -> 156
