Workbook

Sheet Cost Estimate
B1: Project Cost Estimate | D1: =NOW() -> 46220.683
B2: US 17/92 Cost Estimate
B5: PAY ITEM NUMBER | C5: ITEM | D5: UNIT | E5: PROJECT QUANTITY | F5: UNIT COST* | G5: ESTIMATED COST
I6: Calculation
B7: ='Unit Costs'!G6 -> 104-10-3 | C7: ='Unit Costs'!B6 -> Sediment Barrier (Silt Fence) | D7: ='Unit Costs'!C6 -> LF | E7: 38500 | F7: ='Unit Costs'!F6 -> 3.16 | G7: =ROUNDUP((E7*F7),-3) -> 122000 | I7: =(2*19340*1.1)-(2*2335) -> 37878
B8: ='Unit Costs'!G7 -> 104-11 | C8: ='Unit Costs'!B7 -> Floating Turbidity Barrier | D8: ='Unit Costs'!C7 -> LF | E8: 5200 | F8: ='Unit Costs'!F7 -> 6.61 | G8: =ROUNDUP((E8*F8),-3) -> 35000 | I8: =2335*2*1.1 -> 5137
B9: ='Unit Costs'!G8 -> 104-12 | C9: ='Unit Costs'!B8 -> Staked Turbidity Barrier - Nyl Reinf PVC | D9: ='Unit Costs'!C8 -> LF | E9: 5200 | F9: ='Unit Costs'!F8 -> 9.33 | G9: =ROUNDUP((E9*F9),-3) -> 49000 | I9: =2335*2*1.1 -> 5137
B10: ='Unit Costs'!G9 -> 104-15 | C10: ='Unit Costs'!B9 -> Soil Tracking Prevention Device | D10: ='Unit Costs'!C9 -> EA | E10: 13 | F10: ='Unit Costs'!F9 -> 4316.03 | G10: =ROUNDUP((E10*F10),-3) -> 57000 | I10: 13
B11: ='Unit Costs'!G10 -> 104-18 | C11: ='Unit Costs'!B10 -> Inlet Protection System | D11: ='Unit Costs'!C10 -> EA | E11: 250 | F11: ='Unit Costs'!F10 -> 166.53 | G11: =ROUNDUP((E11*F11),-3) -> 42000 | I11: =I29 -> 242
B12: ='Unit Costs'!G11 -> 107-1 | C12: ='Unit Costs'!B11 -> Litter Removal | D12: ='Unit Costs'!C11 -> AC | E12: 100 | F12: ='Unit Costs'!F11 -> 26.86 | G12: =ROUNDUP((E12*F12),-3) -> 3000 | I12: =I14 -> 98.635721
B13: ='Unit Costs'!G12 -> 107-2 | C13: ='Unit Costs'!B12 -> Mowing | D13: ='Unit Costs'!C12 -> AC | E13: 100 | F13: ='Unit Costs'!F12 -> 34.19 | G13: =ROUNDUP((E13*F13),-3) -> 4000 | I13: =I14 -> 98.635721
B14: ='Unit Costs'!G13 -> 110-1-1 | C14: ='Unit Costs'!B13 -> Clearing and Grubbing (includes trees) | D14: ='Unit Costs'!C13 -> AC | E14: 100 | F14: ='Unit Costs'!F13 -> 48194.96 | G14: =ROUNDUP((E14*F14),-3) -> 4820000 | H14: =4296572 -> 4296572 | I14: =H14/43560 -> 98.635721
B15: ='Unit Costs'!G14 -> 110-3 | C15: ='Unit Costs'!B14 -> Removal of Existing Structures/Bridges | D15: ='Unit Costs'!C14 -> SF | E15: 12500 | F15: ='Unit Costs'!F14 -> 57.26 | G15: =ROUNDUP((E15*F15),-3) -> 716000 | I15: 12448.44
B16: ='Unit Costs'!G15 -> 120-1 | C16: ='Unit Costs'!B15 -> Regular Excavation | D16: ='Unit Costs'!C15 -> CY | E16: 350000 | F16: ='Unit Costs'!F15 -> 6.93 | G16: =ROUNDUP((E16*F16),-3) -> 2426000 | I16: =(((220593+645066+6104+995)*2*1/27)*1.5)+(48400+24200+9680+96800+16133.33+48400) -> 340586.44
B17: ='Unit Costs'!G16 -> 120-4 | C17: ='Unit Costs'!B16 -> Subsoil Excavation | D17: ='Unit Costs'!C16 -> CY | E17: 20000 | F17: ='Unit Costs'!F16 -> 21.3 | G17: =ROUNDUP((E17*F17),-3) -> 426000 | I17: 20000
B18: ='Unit Costs'!G17 -> 120-6 | C18: ='Unit Costs'!B17 -> Embankment | D18: ='Unit Costs'!C17 -> CY | E18: 215000 | F18: ='Unit Costs'!F17 -> 8.96 | G18: =ROUNDUP((E18*F18),-3) -> 1927000 | I18: =((220593+645066+6104+995)*4*1/27)+((29128+13798+47326+70984+86419)*(2+1)*2/27)+((386+13788+13287+287+21938+10940+49566+78310+2630+1510+515+932+1631+1641+3423+24844+33225+5074)*2*1/27)*1.4 -> 211702.13
B19: ='Unit Costs'!G18 -> 160-4 | C19: ='Unit Costs'!B18 -> Type B Stabilization | D19: ='Unit Costs'!C18 -> SY | E19: 284600 | F19: ='Unit Costs'!F18 -> 6.28 | G19: =ROUNDUP((E19*F19),-3) -> 1788000 | H19: =1053491+408949+(343000-259000)*8 -> 2134440 | I19: =(H19/9)*1.2 -> 284592
B20: ='Unit Costs'!G19 -> 285-709 | C20: ='Unit Costs'!B19 -> Optional Base, Base Group 09 | D20: ='Unit Costs'!C19 -> SY | E20: 226000 | F20: ='Unit Costs'!F19 -> 24.08 | G20: =ROUNDUP((E20*F20),-3) -> 5443000 | H20: =254336+768316+(343000-259000)*8 -> 1694652 | I20: =(H20/9)*1.2 -> 225953.6
B21: ='Unit Costs'!G20 -> 327-70-6 | C21: ='Unit Costs'!B20 -> Milling Existing Asphalt Pavement, 1.5" Avg Depth | D21: ='Unit Costs'!C20 -> SY | E21: 75000 | F21: ='Unit Costs'!F20 -> 2.61 | G21: =ROUNDUP((E21*F21),-3) -> 196000 | I21: =(5459+67762+5481+477640)/9*1.2 -> 74178.933
B22: ='Unit Costs'!G21 -> 334-1-13 | C22: ='Unit Costs'!B21 -> Superpave Asphaltic Concrete, Traffic C | D22: ='Unit Costs'!C21 -> TN | E22: 16300 | F22: ='Unit Costs'!F21 -> 140.13 | G22: =ROUNDUP((E22*F22),-3) -> 2285000 | H22: =220594+698807-116740+(343000-259000)*8 -> 1474661 | I22: =((165/2000)*(H22/9))*1.2 -> 16221.271
B23: ='Unit Costs'!G22 -> 337-7-83 | C23: ='Unit Costs'!B22 -> Superpave Asphaltic Concrete Friction Course, Traffic C, FC-12.5, PG 76-22 | D23: ='Unit Costs'!C22 -> TN | E23: 16300 | F23: ='Unit Costs'!F22 -> 158.59 | G23: =ROUNDUP((E23*F23),-3) -> 2586000 | I23: =((165/2000)*(H22/9)*1.2) -> 16221.271
B24: ='Unit Costs'!G23 -> 400-0-11 | C24: ='Unit Costs'!B23 -> Concrete Class NS, Gravity Wall Index 400-011 | D24: ='Unit Costs'!C23 -> CY | E24: 4550 | F24: ='Unit Costs'!F23 -> 922.9 | G24: =ROUNDUP((E24*F24),-3) -> 4200000 | H24: =5890+817+170+57 -> 6934 | I24: =(H24*0.65) -> 4507.1
B25: ='Unit Costs'!G24 -> 400-2-10 | C25: ='Unit Costs'!B24 -> Concrete Class II, Approach Slabs | D25: ='Unit Costs'!C24 -> CY | E25: 125 | F25: ='Unit Costs'!F24 -> 998.6 | G25: =ROUNDUP((E25*F25),-3) -> 125000 | I25: 119.27
B26: ='Unit Costs'!G25 -> 400-4-1 | C26: ='Unit Costs'!B25 -> Concrete Class IV, Culverts | D26: ='Unit Costs'!C25 -> CY | E26: 65 | F26: ='Unit Costs'!F25 -> 1873.55 | G26: =ROUNDUP((E26*F26),-3) -> 122000 | I26: 61
B27: ='Unit Costs'!G26 -> 415-1-1 | C27: ='Unit Costs'!B26 -> Reinf Steel - Roadway | D27: ='Unit Costs'!C26 -> LB | E27: 7000 | F27: ='Unit Costs'!F26 -> 1.39 | G27: =ROUNDUP((E27*F27),-3) -> 10000 | I27: 6975.93
B28: ='Unit Costs'!G27 -> 415-1-9 | C28: ='Unit Costs'!B27 -> Reinf Steel - Approach Slabs | D28: ='Unit Costs'!C27 -> LB | E28: 21000 | F28: ='Unit Costs'!F27 -> 1.45 | G28: =ROUNDUP((E28*F28),-3) -> 31000 | I28: 20872.25
B29: ='Unit Costs'!G28 -> 425-1-361 | C29: ='Unit Costs'!B28 -> Inlets, Curb, Type P-6, <10' | D29: ='Unit Costs'!C28 -> EA | E29: 250 | F29: ='Unit Costs'!F28 -> 9933.62 | G29: =ROUNDUP((E29*F29),-3) -> 2484000 | I29: 242
B30: ='Unit Costs'!G29 -> 425-1-541 | C30: ='Unit Costs'!B29 -> Inlets, Ditch Bottom, Type D, <10' | D30: ='Unit Costs'!C29 -> EA | E30: 6 | F30: ='Unit Costs'!F29 -> 7367.27 | G30: =ROUNDUP((E30*F30),-3) -> 45000 | I30: 6
B31: ='Unit Costs'!G31 -> 430-175-124 | C31: ='Unit Costs'!B31 -> Pipe Culvert, Opt Matl, Round, 24" S/CD | D31: ='Unit Costs'!C31 -> LF | E31: 21400 | F31: ='Unit Costs'!F31 -> 122.61 | G31: =ROUNDUP((E31*F31),-3) -> 2624000 | H31: 10680 | I31: =H31*2 -> 21360
B32: ='Unit Costs'!G32 -> 430-175-130 | C32: ='Unit Costs'!B32 -> Pipe Culvert, Opt Matl, Round, 30" S/CD | D32: ='Unit Costs'!C32 -> LF | E32: 4600 | F32: ='Unit Costs'!F32 -> 167.86 | G32: =ROUNDUP((E32*F32),-3) -> 773000 | H32: 2300 | I32: =H32*2 -> 4600
B33: ='Unit Costs'!G33 -> 430-175-136 | C33: ='Unit Costs'!B33 -> Pipe Culvert, Opt Matl, Round, 36" S/CD | D33: ='Unit Costs'!C33 -> LF | E33: 2200 | F33: ='Unit Costs'!F33 -> 202.26 | G33: =ROUNDUP((E33*F33),-3) -> 445000 | H33: 1100 | I33: =H33*2 -> 2200
B34: ='Unit Costs'!G34 -> 430-175-142 | C34: ='Unit Costs'!B34 -> Pipe Culvert, Opt Matl, Round, 42" S/CD | D34: ='Unit Costs'!C34 -> LF | E34: 2000 | F34: ='Unit Costs'!F34 -> 217.93 | G34: =ROUNDUP((E34*F34),-3) -> 436000 | H34: 1000 | I34: =H34*2 -> 2000
B35: ='Unit Costs'!G35 -> 430-175-160 | C35: ='Unit Costs'!B35 -> Pipe Culvert, Opt Matl, Round, 60" S/CD | D35: ='Unit Costs'!C35 -> LF | E35: 200 | F35: ='Unit Costs'!F35 -> 489.33 | G35: =ROUNDUP((E35*F35),-3) -> 98000 | H35: 100 | I35: =H35*2 -> 200
B36: ='Unit Costs'!G36 -> 430-984-129 | C36: ='Unit Costs'!B36 -> Mitered End Section, F&I, 24" SD | D36: ='Unit Costs'!C36 -> EA | E36: 45 | F36: ='Unit Costs'!F36 -> 3439.63 | G36: =ROUNDUP((E36*F36),-3) -> 155000 | H36: 30 | I36: =H36*1.5 -> 45
B37: ='Unit Costs'!G37 -> 515-2-111 | C37: ='Unit Costs'!B37 -> Ped/Bicycle Railing, NS, 42" Type 1 | D37: ='Unit Costs'!C37 -> LF | E37: 12000 | F37: ='Unit Costs'!F37 -> 82.46 | G37: =ROUNDUP((E37*F37),-3) -> 990000 | H37: =10920+817+170+57 -> 11964 | I37: =10920+817+170+57 -> 11964
B38: ='Unit Costs'!G38 -> 520-1-7 | C38: ='Unit Costs'!B38 -> Concrete Curb & Gutter, Type E | D38: ='Unit Costs'!C38 -> LF | E38: 29000 | F38: ='Unit Costs'!F38 -> 36.9 | G38: =ROUNDUP((E38*F38),-3) -> 1071000 | H38: =4404+1307+1242+2075+13509+81+81+3506 -> 26205 | I38: =H38*1.1 -> 28825.5
B39: ='Unit Costs'!G39 -> 520-1-10 | C39: ='Unit Costs'!B39 -> Concrete Curb & Gutter, Type F | D39: ='Unit Costs'!C39 -> LF | E39: 33500 | F39: ='Unit Costs'!F39 -> 40.29 | G39: =ROUNDUP((E39*F39),-3) -> 1350000 | H39: =570+1711+541+558+593+2697+1037+7477+9418+194+322+326+613+1784+309+191+88+1801 -> 30230 | I39: =H39*1.1 -> 33253
B40: ='Unit Costs'!G40 -> 520-2-4 | C40: ='Unit Costs'!B40 -> Concrete Curb, Type D | D40: ='Unit Costs'!C40 -> LF | E40: 0 | F40: ='Unit Costs'!F40 -> 43.14 | G40: =ROUNDUP((E40*F40),-3) -> 0 | I40: 0
B41: ='Unit Costs'!G41 -> 520-2-8 | C41: ='Unit Costs'!B41 -> Concrete Curb, Type RA | D41: ='Unit Costs'!C41 -> LF | E41: 0 | F41: ='Unit Costs'!F41 -> 47.32 | G41: =ROUNDUP((E41*F41),-3) -> 0 | I41: 0
B42: ='Unit Costs'!G42 -> 520-5-11 | C42: ='Unit Costs'!B42 -> Traffic Separator, 4' Wide | D42: ='Unit Costs'!C42 -> LF | E42: 0 | F42: ='Unit Costs'!F42 -> 74.52 | G42: =ROUNDUP((E42*F42),-3) -> 0 | I42: 0
B43: ='Unit Costs'!G43 -> 520-5-12 | C43: ='Unit Costs'!B43 -> Traffic Separator, 6' Wide | D43: ='Unit Costs'!C43 -> LF | E43: 0 | F43: ='Unit Costs'!F43 -> 128.84 | G43: =ROUNDUP((E43*F43),-3) -> 0 | I43: 0 | AW43: Updated
B44: ='Unit Costs'!G44 -> 520-70 | C44: ='Unit Costs'!B44 -> Concrete Traffic Separator, Special-Variable Width | D44: ='Unit Costs'!C44 -> SY | E44: 0 | F44: ='Unit Costs'!F44 -> 151.31 | G44: =ROUNDUP((E44*F44),-3) -> 0 | I44: 0
B45: ='Unit Costs'!G45 -> 521-72-40 | C45: ='Unit Costs'!B45 -> Shldr Conc Barrier, 38" or 44" Height | D45: ='Unit Costs'!C45 -> LF | E45: 2550 | F45: ='Unit Costs'!F45 -> 400.04 | G45: =ROUNDUP((E45*F45),-3) -> 1021000 | I45: 2503
B46: ='Unit Costs'!G46 -> 522-1 | C46: ='Unit Costs'!B46 -> Concrete Sidewalk and Driveways, 4" | D46: ='Unit Costs'!C46 -> SY | E46: 32500 | F46: ='Unit Costs'!F46 -> 69.61 | G46: =ROUNDUP((E46*F46),-3) -> 2263000 | I46: =((386+13788+13287+287+21938+10940+49566+78310+2630+1510+515+932+1631+1641+3423+24844+33225+5074)/9)*1.1 -> 32257.744
B47: ='Unit Costs'!G47 -> 522-2 | C47: ='Unit Costs'!B47 -> Concrete Sidewalk and Driveways, 6" | D47: ='Unit Costs'!C47 -> SY | E47: 16500 | F47: ='Unit Costs'!F47 -> 93.28 | G47: =ROUNDUP((E47*F47),-3) -> 1540000 | I47: =I46/2 -> 16128.872
B48: ='Unit Costs'!G48 -> 527-2 | C48: ='Unit Costs'!B48 -> Detectable Warnings | D48: ='Unit Costs'!C48 -> SF | F48: ='Unit Costs'!F48 -> 36.28 | G48: =ROUNDUP((E48*F48),-3) -> 0 | I48: =(20*11+24*11+28*12) -> 820
B49: ='Unit Costs'!G49 -> 536-1-0 | C49: ='Unit Costs'!B49 -> Guardrail - Roadway, GEN/LS TL-2 | D49: ='Unit Costs'!C49 -> LF | E49: 1000 | F49: ='Unit Costs'!F49 -> 23 | G49: =ROUNDUP((E49*F49),-3) -> 23000 | I49: 1000
B50: ='Unit Costs'!G50 -> 536-73 | C50: ='Unit Costs'!B50 -> Guardrail Removal | D50: ='Unit Costs'!C50 -> LF | E50: 5500 | F50: ='Unit Costs'!F50 -> 1.33 | G50: =ROUNDUP((E50*F50),-3) -> 8000 | I50: 5425
B51: ='Unit Costs'!G51 -> 536-85-20 | C51: ='Unit Costs'!B51 -> Guardrail End Treat - Trailing Anchorage | D51: ='Unit Costs'!C51 -> EA | E51: 5 | F51: ='Unit Costs'!F51 -> 1553.53 | G51: =ROUNDUP((E51*F51),-3) -> 8000 | I51: 4
B52: ='Unit Costs'!G52 -> 536-85-24 | C52: ='Unit Costs'!B52 -> Guardrail End Treat - Para App Term | D52: ='Unit Costs'!C52 -> EA | E52: 5 | F52: ='Unit Costs'!F52 -> 3190.67 | G52: =ROUNDUP((E52*F52),-3) -> 16000 | I52: 4
B53: ='Unit Costs'!G53 -> 550-10-220 | C53: ='Unit Costs'!B53 -> Fencing, Type B, 5.1-6.0', Standard | D53: ='Unit Costs'!C53 -> LF | E53: 14000 | F53: ='Unit Costs'!F53 -> 21.54 | G53: =ROUNDUP((E53*F53),-3) -> 302000 | I53: =11455*1.2 -> 13746
B54: ='Unit Costs'!G54 -> 550-60-234 | C54: ='Unit Costs'!B54 -> Fence Gate, Typ B, Slide/Cant, 18.1-20' Open | D54: ='Unit Costs'!C54 -> EA | E54: 12 | F54: ='Unit Costs'!F54 -> 5000 | G54: =ROUNDUP((E54*F54),-3) -> 60000 | I54: 12
B55: ='Unit Costs'!G55 -> 570-1-1 | C55: ='Unit Costs'!B55 -> Performance Turf | D55: ='Unit Costs'!C55 -> SY | E55: 65000 | F55: ='Unit Costs'!F55 -> 2.11 | G55: =ROUNDUP((E55*F55),-3) -> 138000 | I55: =((29128+13798+47326+70984+86419+79346+34164+4667+5745+3644+11208+12131+5108+4934+13936+14703+2039)+((2+2)*(15037+13073+1137+2200+1651)))/9 -> 63519.111
B56: ='Unit Costs'!G56 -> 630-2-11 | C56: ='Unit Costs'!B56 -> Conduit, F&I, Open Trench | D56: ='Unit Costs'!C56 -> LF | E56: 31500 | F56: ='Unit Costs'!F56 -> 16.08 | G56: =ROUNDUP((E56*F56),-3) -> 507000 | I56: 31044
B57: ='Unit Costs'!G57 -> 630-2-12 | C57: ='Unit Costs'!B57 -> Conduit, F&I, Directional Bore | D57: ='Unit Costs'!C57 -> LF | E57: 11000 | F57: ='Unit Costs'!F57 -> 38.26 | G57: =ROUNDUP((E57*F57),-3) -> 421000 | I57: 10816
B58: ='Unit Costs'!G58 -> 630-2-15 | C58: ='Unit Costs'!B58 -> Conduit, F&I, Bridge Mount | D58: ='Unit Costs'!C58 -> LF | E58: 2400 | F58: ='Unit Costs'!F58 -> 65.58 | G58: =ROUNDUP((E58*F58),-3) -> 158000 | I58: 2389
B59: ='Unit Costs'!G59 -> 632-7-1 | C59: ='Unit Costs'!B59 -> Signal Cable - New or Reconstructed Intersection, F&I | D59: ='Unit Costs'!C59 -> PI | E59: 3 | F59: ='Unit Costs'!F59 -> 11445.79 | G59: =ROUNDUP((E59*F59),-3) -> 35000 | I59: 3
B60: ='Unit Costs'!G60 -> 633-1-121 | C60: ='Unit Costs'!B60 -> Fiber Optic Cable, F&I, UG 2-12 | D60: ='Unit Costs'!C60 -> LF | E60: 7000 | F60: ='Unit Costs'!F60 -> 4.72 | G60: =ROUNDUP((E60*F60),-3) -> 34000 | I60: 6900
B61: ='Unit Costs'!G61 -> 633-1-122 | C61: ='Unit Costs'!B61 -> Fiber Optic Cable, F&I, UG 13-48 | D61: ='Unit Costs'!C61 -> LF | E61: 10000 | F61: ='Unit Costs'!F61 -> 4.39 | G61: =ROUNDUP((E61*F61),-3) -> 44000 | I61: 10000
B62: ='Unit Costs'!G62 -> 633-1-123 | C62: ='Unit Costs'!B62 -> Fiber Optic Cable, F&I, UG 49-96 | D62: ='Unit Costs'!C62 -> LF | E62: 2 | F62: ='Unit Costs'!F62 -> 5.81 | G62: =ROUNDUP((E62*F62),-3) -> 1000 | I62: 2
B63: ='Unit Costs'!G63 -> 633-1-124 | C63: ='Unit Costs'!B63 -> Fiber Optic Cable, F&I, UG 97-144 | D63: ='Unit Costs'!C63 -> LF | E63: 28000 | F63: ='Unit Costs'!F63 -> 5.61 | G63: =ROUNDUP((E63*F63),-3) -> 158000 | I63: 27050
B64: ='Unit Costs'!G64 -> 633-2-31 | C64: ='Unit Costs'!B64 -> Fiber Optic Connection, Install, Splice | D64: ='Unit Costs'!C64 -> EA | E64: 300 | F64: ='Unit Costs'!F64 -> 57.84 | G64: =ROUNDUP((E64*F64),-3) -> 18000 | I64: 300
B65: ='Unit Costs'!G65 -> 633-3-11 | C65: ='Unit Costs'!B65 -> Fiber Optic Connection, Hdwr, Splice Enclosure | D65: ='Unit Costs'!C65 -> EA | E65: 5 | F65: ='Unit Costs'!F65 -> 1672.36 | G65: =ROUNDUP((E65*F65),-3) -> 9000 | I65: 5
B66: ='Unit Costs'!G66 -> 633-3-15 | C66: ='Unit Costs'!B66 -> Fiber Optic Connection, Hdwr, Preterm Patch Pan | D66: ='Unit Costs'!C66 -> EA | E66: 4 | F66: ='Unit Costs'!F66 -> 2392.07 | G66: =ROUNDUP((E66*F66),-3) -> 10000 | I66: 4
B67: ='Unit Costs'!G67 -> 635-2-11 | C67: ='Unit Costs'!B67 -> Pull & Splice Box, F&I, 13''x 24'' | D67: ='Unit Costs'!C67 -> EA | E67: 160 | F67: ='Unit Costs'!F67 -> 1496.85 | G67: =ROUNDUP((E67*F67),-3) -> 240000 | I67: 151
... B105: ='Unit Costs'!G105 -> 700-141-111 | C105: ='Unit Costs'!B105 -> EHSA, AC, Ground MT, Beacon, <12 SF | D105: ='Unit Costs'!C105 -> EA | E105: 4 | F105: ='Unit Costs'!F105 -> 10728.37 | G105: =ROUNDUP((E105*F105),-3) -> 43000 | I105: 4
B106: ='Unit Costs'!G106 -> 706-1-3 | C106: ='Unit Costs'!B106 -> Raised Pavement Marker, Type B | D106: ='Unit Costs'!C106 -> EA | E106: 2000 | F106: ='Unit Costs'!F106 -> 4.82 | G106: =ROUNDUP((E106*F106),-3) -> 10000 | I106: =(I119+I118)*5280/40 -> 1929.975
B107: ='Unit Costs'!G107 -> 710-90 | C107: ='Unit Costs'!B107 -> Painted Pavement Markings, Final Surface | D107: ='Unit Costs'!C107 -> LS | E107: 1 | F107: ='Unit Costs'!F107 -> 41669.23 | G107: =ROUNDUP((E107*F107),-3) -> 42000 | I107: 1
B108: ='Unit Costs'!G108 -> 711-11-123 | C108: ='Unit Costs'!B108 -> Thermoplastic, Standard, White, Solid 12" | D108: ='Unit Costs'!C108 -> LF | E108: 1800 | F108: ='Unit Costs'!F108 -> 3.95 | G108: =ROUNDUP((E108*F108),-3) -> 8000 | I108: 1779
B109: ='Unit Costs'!G109 -> 711-11-124 | C109: ='Unit Costs'!B109 -> Thermoplastic, Standard, White, Solid 18" | D109: ='Unit Costs'!C109 -> LF | E109: 0 | F109: ='Unit Costs'!F109 -> 5.62 | G109: =ROUNDUP((E109*F109),-3) -> 0 | I109: 0
B110: ='Unit Costs'!G110 -> 711-11-125 | C110: ='Unit Costs'!B110 -> Thermoplastic, Standard, White, Solid 24" | D110: ='Unit Costs'!C110 -> LF | E110: 1000 | F110: ='Unit Costs'!F110 -> 7.42 | G110: =ROUNDUP((E110*F110),-3) -> 8000 | I110: 958
B111: ='Unit Costs'!G111 -> 711-11-141 | C111: ='Unit Costs'!B111 -> Thermoplastic, Standard, White, Skip 2-4, 6" | D111: ='Unit Costs'!C111 -> GM | E111: 0.2 | F111: ='Unit Costs'!F111 -> 2868.46 | G111: =ROUNDUP((E111*F111),-3) -> 1000 | I111: =698/5280 -> 0.13219697
B112: ='Unit Costs'!G112 -> 711-11-144 | C112: ='Unit Costs'!B112 -> Thermoplastic, Standard, White, Skip 2-2, 12" | D112: ='Unit Costs'!C112 -> GM | E112: 0 | F112: ='Unit Costs'!F112 -> 3534.11 | G112: =ROUNDUP((E112*F112),-3) -> 0 | I112: =0/5280 -> 0
B113: ='Unit Costs'!G113 -> 711-11-160 | C113: ='Unit Costs'!B113 -> Thermoplastic, Standard, White, Messages | D113: ='Unit Costs'!C113 -> EA | E113: 5 | F113: ='Unit Costs'!F113 -> 185.61 | G113: =ROUNDUP((E113*F113),-3) -> 1000 | I113: 4
B114: ='Unit Costs'!G114 -> 711-11-170 | C114: ='Unit Costs'!B114 -> Thermoplastic, Standard, White, Arrows | D114: ='Unit Costs'!C114 -> EA | E114: 100 | F114: ='Unit Costs'!F114 -> 87.07 | G114: =ROUNDUP((E114*F114),-3) -> 9000 | I114: 93
B115: ='Unit Costs'!G115 -> 711-11-224 | C115: ='Unit Costs'!B115 -> Thermoplastic, Standard, Yellow, Solid 18" | D115: ='Unit Costs'!C115 -> LF | E115: 0 | F115: ='Unit Costs'!F115 -> 5.5 | G115: =ROUNDUP((E115*F115),-3) -> 0
B116: ='Unit Costs'!G116 -> 711-11-241 | C116: ='Unit Costs'!B116 -> Thermoplastic, Standard, Yellow, Skip 2-4, 6" | D116: ='Unit Costs'!C116 -> GM | E116: 0 | F116: ='Unit Costs'!F116 -> 3164.92 | G116: =ROUNDUP((E116*F116),-3) -> 0
B117: ='Unit Costs'!G117 -> 711-16-101 | C117: ='Unit Costs'!B117 -> Thermoplastic, Standard, White, Solid 6" | D117: ='Unit Costs'!C117 -> GM | E117: 8.5 | F117: ='Unit Costs'!F117 -> 5385.34 | G117: =ROUNDUP((E117*F117),-3) -> 46000 | I117: =44426/5280 -> 8.4140152
B118: ='Unit Costs'!G118 -> 711-16-131 | C118: ='Unit Costs'!B118 -> Thermoplastic, Standard, White, Skip 10-30, 6" | D118: ='Unit Costs'!C118 -> GM | E118: 7.5 | F118: ='Unit Costs'!F118 -> 2052.71 | G118: =ROUNDUP((E118*F118),-3) -> 16000 | I118: =37976/5280 -> 7.1924242
B119: ='Unit Costs'!G119 -> 711-16-201 | C119: ='Unit Costs'!B119 -> Thermoplastic, Standard, Yellow, Solid 6" | D119: ='Unit Costs'!C119 -> GM | E119: 7.5 | F119: ='Unit Costs'!F119 -> 5455.22 | G119: =ROUNDUP((E119*F119),-3) -> 41000 | I119: =39223/5280 -> 7.4285985
B120: ='Unit Costs'!G120 -> 713-107 | C120: ='Unit Costs'!B120 -> Preformed/Permanent Tape, Remove | D120: ='Unit Costs'!C120 -> SF | E120: 7000 | F120: ='Unit Costs'!F120 -> 3.99 | G120: =ROUNDUP((E120*F120),-3) -> 28000 | I120: 6794
B121: ='Unit Costs'!G121 -> 715-1-13 | C121: ='Unit Costs'!B121 -> Lighting Conductors, F&I, Insulated, No 4-2 | D121: ='Unit Costs'!C121 -> LF | E121: 32000 | F121: ='Unit Costs'!F121 -> 3.89 | G121: =ROUNDUP((E121*F121),-3) -> 125000 | I121: 31571.76
B122: ='Unit Costs'!G122 -> 715-7-12 | C122: ='Unit Costs'!B122 -> Load Center, F&I | D122: ='Unit Costs'!C122 -> EA | E122: 1 | F122: ='Unit Costs'!F122 -> 9950 | G122: =ROUNDUP((E122*F122),-3) -> 10000 | I122: 1
B123: ='Unit Costs'!G123 -> 715-61-342 | C123: ='Unit Costs'!B123 -> Light Pole Complete, F&I, 40' Mounting Height, 12' Arm Length | D123: ='Unit Costs'!C123 -> EA | E123: 60 | F123: ='Unit Costs'!F123 -> 8681.28 | G123: =ROUNDUP((E123*F123),-3) -> 521000 | I123: 59
B124: ='Unit Costs'!G124 -> 715-69-000 | C124: ='Unit Costs'!B124 -> Light Pole Complete, Remove Pole and Foundation | D124: ='Unit Costs'!C124 -> EA | E124: 0 | F124: ='Unit Costs'!F124 -> 914.6 | G124: =ROUNDUP((E124*F124),-3) -> 0 | I124: 0
B125: ='Unit Costs'!G125 -> 715-550-1 | C125: ='Unit Costs'!B125 -> Pole Cable Distribution System, F&I, Conventional | D125: ='Unit Costs'!C125 -> EA | E125: 60 | F125: ='Unit Costs'!D125 -> 850.29 | G125: =ROUNDUP((E125*F125),-3) -> 52000 | I125: 59
C127: ='Unit Costs'!B128 -> Currux Vission - Midblock Crossing - Pedestrian Monitoring | D127: ='Unit Costs'!C128 -> EA | E127: 2 | F127: ='Unit Costs'!D128 -> 40000 | G127: =ROUNDUP((E127*F127),-3) -> 80000 | I127: 2
C129: ='Unit Costs'!B130 -> Reedy Creek Bridge | D129: ='Unit Costs'!C130 -> SF | E129: 125000 | F129: 190 | G129: =ROUNDUP((E129*F129),-3) -> 23750000 | I129: =53.67*2324 -> 124729.08
C132: Subtotal (Excludes Mobilization and MOT) | G132: =ROUNDUP(SUM(G7:G130),-3) -> 72364000
C133: Mobilization and MOT (20% of construction cost) | G133: =ROUNDUP(G132*0.2,-3) -> 14473000
C134: Estimated Construction Cost | G134: =SUM(G133+G132) -> 86837000
C135: Project Unknowns (20%) | G135: =ROUNDUP(0.2*G134,-3) -> 17368000
C136: Total Estimated Construction Costs | G136: =SUM(G134+G135) -> 104205000
C138: Estimated CEI Costs (12%) | G138: =ROUNDUP(0.12*$G$136,-2) -> 12504600
C140: Design Costs (7.5%) | G140: =ROUNDUP(G134*0.075,-2) -> 6512800
C141: Design Unknowns (10%) | G141: =ROUNDUP(G140*0.1,-2) -> 651300
C142: Total Design Costs | G142: =SUM(G140:G141) -> 7164100
C143: Total Construction Cost | G143: =G134+G135 -> 104205000
B144: * Unit Cost are provided by higher of FDOT's Current 12 Month Market Area 8 Moving Average (6/01/2025 - 5/31/2026) and
B145: FDOT's Current 12 Month Statewide Moving Average (6/01/2025 - 5/31/2026)

Sheet Unit Costs
B1: Unit Cost Breakdown
H3: Notes:
B4: ITEM | C4: UNIT | D4: Area 8 Unit Cost (Statewide if Area not available) | E4: Statewide Unit Cost | F4: Unit Cost Used | G4: FDOT Item ID
A6: =G6 -> 104-10-3 | B6: Sediment Barrier (Silt Fence) | C6: LF | D6: 2.92 | E6: 3.16 | F6: =E6 -> 3.16 | G6: 104-10-3 | H6: Current 12 Month Moving Statewide Average (6/01/2025 - 5/31/2026)
A7: =G7 -> 104-11 | B7: Floating Turbidity Barrier | C7: LF | D7: 16.13 | E7: 6.61 | F7: =E7 -> 6.61 | G7: 104-11 | H7: Current 12 Month Moving Statewide Average (6/01/2025 - 5/31/2026)
A8: =G8 -> 104-12 | B8: Staked Turbidity Barrier - Nyl Reinf PVC | C8: LF | D8: 7.11 | E8: 9.33 | F8: =E8 -> 9.33 | G8: 104-12 | H8: Current 12 Month Moving Statewide Average (6/01/2025 - 5/31/2026)
A9: =G9 -> 104-15 | B9: Soil Tracking Prevention Device | C9: EA | D9: 5050.84 | E9: 4316.03 | F9: =E9 -> 4316.03 | G9: 104-15 | H9: Current 12 Month Moving Statewide Average (6/01/2025 - 5/31/2026)
A10: =G10 -> 104-18 | B10: Inlet Protection System | C10: EA | D10: 151.95 | E10: 166.53 | F10: =E10 -> 166.53 | G10: 104-18 | H10: Current 12 Month Moving Statewide Average (6/01/2025 - 5/31/2026)
A11: =G11 -> 107-1 | B11: Litter Removal | C11: AC | D11: 35.3 | E11: 26.86 | F11: =E11 -> 26.86 | G11: 107-1 | H11: Current 12 Month Moving Statewide Average (6/01/2025 - 5/31/2026)
A12: =G12 -> 107-2 | B12: Mowing | C12: AC | D12: 52.16 | E12: 34.19 | F12: =E12 -> 34.19 | G12: 107-2 | H12: Current 12 Month Moving Statewide Average (6/01/2025 - 5/31/2026)
A13: =G13 -> 110-1-1 | B13: Clearing and Grubbing (includes trees) | C13: AC | D13: 29365.77 | E13: 48194.96 | F13: =E13 -> 48194.96 | G13: 110-1-1 | H13: Current 12 Month Moving Statewide Average (6/01/2025 - 5/31/2026)
A14: =G14 -> 110-3 | B14: Removal of Existing Structures/Bridges | C14: SF | D14: 74.27 | E14: 57.26 | F14: =E14 -> 57.26 | G14: 110-3 | H14: Current 12 Month Moving Statewide Average (6/01/2025 - 5/31/2026)
A15: =G15 -> 120-1 | B15: Regular Excavation | C15: CY | D15: 8.77 | E15: 6.93 | F15: =E15 -> 6.93 | G15: 120-1 | H15: Current 12 Month Moving Statewide Average (6/01/2025 - 5/31/2026)
A16: =G16 -> 120-4 | B16: Subsoil Excavation | C16: CY | D16: 12.87 | E16: 21.3 | F16: =E16 -> 21.3 | G16: 120-4 | H16: Current 12 Month Moving Statewide Average (6/01/2025 - 5/31/2026)
A17: =G17 -> 120-6 | B17: Embankment | C17: CY | D17: 10.67 | E17: 8.96 | F17: =E17 -> 8.96 | G17: 120-6 | H17: Current 12 Month Moving Statewide Average (6/01/2025 - 5/31/2026)
... A53: =G53 -> 550-10-220 | B53: Fencing, Type B, 5.1-6.0', Standard | C53: LF | D53: 19.48 | E53: 21.54 | F53: =E53 -> 21.54 | G53: 550-10-220 | H53: Current 12 Month Moving Statewide Average (6/01/2025 - 5/31/2026)
A54: =G54 -> 550-60-234 | B54: Fence Gate, Typ B, Slide/Cant, 18.1-20' Open | C54: EA | D54: 5000 | F54: =D54 -> 5000 | G54: 550-60-234 | H54: Current 12 Month Moving Areawide Average (6/01/2025 - 5/31/2026)
A55: =G55 -> 570-1-1 | B55: Performance Turf | C55: SY | D55: 4.03 | E55: 2.11 | F55: =E55 -> 2.11 | G55: 570-1-1 | H55: Current 12 Month Moving Statewide Average (6/01/2025 - 5/31/2026)
A56: =G56 -> 630-2-11 | B56: Conduit, F&I, Open Trench | C56: LF | D56: 20.27 | E56: 16.08 | F56: =E56 -> 16.08 | G56: 630-2-11 | H56: Current 12 Month Moving Statewide Average (6/01/2025 - 5/31/2026)
A57: =G57 -> 630-2-12 | B57: Conduit, F&I, Directional Bore | C57: LF | D57: 42.41 | E57: 38.26 | F57: =E57 -> 38.26 | G57: 630-2-12 | H57: Current 12 Month Moving Statewide Average (6/01/2025 - 5/31/2026)
A58: =G58 -> 630-2-15 | B58: Conduit, F&I, Bridge Mount | C58: LF | D58: 76.28 | E58: 65.58 | F58: =E58 -> 65.58 | G58: 630-2-15 | H58: Current 12 Month Moving Statewide Average (6/01/2025 - 5/31/2026)
A59: =G59 -> 632-7-1 | B59: Signal Cable - New or Reconstructed Intersection, F&I | C59: PI | D59: 11619.02 | E59: 11445.79 | F59: =E59 -> 11445.79 | G59: 632-7-1 | H59: Current 12 Month Moving Statewide Average (6/01/2025 - 5/31/2026)
A60: =G60 -> 633-1-121 | B60: Fiber Optic Cable, F&I, UG 2-12 | C60: LF | D60: 5.15 | E60: 4.72 | F60: =E60 -> 4.72 | G60: 633-1-121 | H60: Current 12 Month Moving Statewide Average (6/01/2025 - 5/31/2026)
A61: =G61 -> 633-1-122 | B61: Fiber Optic Cable, F&I, UG 13-48 | C61: LF | D61: 4.23 | E61: 4.39 | F61: =E61 -> 4.39 | G61: 633-1-122 | H61: Current 12 Month Moving Statewide Average (6/01/2025 - 5/31/2026)
A62: =G62 -> 633-1-123 | B62: Fiber Optic Cable, F&I, UG 49-96 | C62: LF | D62: 4.85 | E62: 5.81 | F62: =E62 -> 5.81 | G62: 633-1-123 | H62: Current 12 Month Moving Statewide Average (6/01/2025 - 5/31/2026)
A63: =G63 -> 633-1-124 | B63: Fiber Optic Cable, F&I, UG 97-144 | C63: LF | D63: 6.14 | E63: 5.61 | F63: =E63 -> 5.61 | G63: 633-1-124 | H63: Current 12 Month Moving Statewide Average (6/01/2025 - 5/31/2026)
A64: =G64 -> 633-2-31 | B64: Fiber Optic Connection, Install, Splice | C64: EA | D64: 65.18 | E64: 57.84 | F64: =E64 -> 57.84 | G64: 633-2-31 | H64: Current 12 Month Moving Statewide Average (6/01/2025 - 5/31/2026)
A65: =G65 -> 633-3-11 | B65: Fiber Optic Connection, Hdwr, Splice Enclosure | C65: EA | D65: 1769.64 | E65: 1672.36 | F65: =E65 -> 1672.36 | G65: 633-3-11 | H65: Current 12 Month Moving Statewide Average (6/01/2025 - 5/31/2026)
A66: =G66 -> 633-3-15 | B66: Fiber Optic Connection, Hdwr, Preterm Patch Pan | C66: EA | D66: 2276.09 | E66: 2392.07 | F66: =E66 -> 2392.07 | G66: 633-3-15 | H66: Current 12 Month Moving Statewide Average (6/01/2025 - 5/31/2026)
... A83: =G83 -> 654-3-10 | B83: Mid: Pedestrian Hybrid Beacon, F&I, Comp | C83: EA | D83: 2400 | E83: 2326.17 | F83: =E83 -> 2326.17 | G83: 654-3-10 | H83: Current 12 Month Moving Statewide Average (6/01/2025 - 5/31/2026)
A84: =G84 -> 660-1-102 | B84: Loop Detector Inductive, F&I, Type 9 | C84: EA | E84: 384.27 | F84: =E84 -> 384.27 | G84: 660-1-102 | H84: Current 12 Month Moving Statewide Average (6/01/2025 - 5/31/2026)
A85: =G85 -> 660-2-102 | B85: Loop Assembly, F&I, Type B | C85: EA | D85: 1695.25 | E85: 1796.13 | F85: =E85 -> 1796.13 | G85: 660-2-102 | H85: Current 12 Month Moving Statewide Average (6/01/2025 - 5/31/2026)
A86: =G86 -> 660-2-106 | B86: Loop Assembly, F&I, Type F | C86: EA | D86: 1971.39 | E86: 2093.2 | F86: =E86 -> 2093.2 | G86: 660-2-106 | H86: Current 12 Month Moving Statewide Average (6/01/2025 - 5/31/2026)
A87: =G87 -> 660-4-11 | B87: Vehicle Detection System - Video, F&I Cabinet Equipment | C87: EA | D87: 23551.67 | E87: 11486.12 | F87: =E87 -> 11486.12 | G87: 660-4-11 | H87: Current 12 Month Moving Statewide Average (6/01/2025 - 5/31/2026)
A88: =G88 -> 660-4-12 | B88: Vehicle Detection System - Video, F&I Above Ground Equipment | C88: EA | D88: 8141.64 | E88: 7174.42 | F88: =E88 -> 7174.42 | G88: 660-4-12 | H88: Current 12 Month Moving Statewide Average (6/01/2025 - 5/31/2026)
A89: =G89 -> 663-1-122 | B89: Signal Priority and Preemption System, F&I, GPS, Detector | C89: EA | D89: 9493.89 | E89: 9022.73 | F89: =E89 -> 9022.73 | G89: 663-1-122 | H89: Current 12 Month Moving Statewide Average (6/01/2025 - 5/31/2026)
A90: =G90 -> 665-1-11 | B90: Pedestrian Detector, F&I, Standard | C90: EA | D90: 514.75 | E90: 458.7 | F90: =E90 -> 458.7 | G90: 665-1-11 | H90: Current 12 Month Moving Statewide Average (6/01/2025 - 5/31/2026)
A91: =G91 -> 670-5-111 | B91: Traffic Controller Assembly, F&I, NEMA, 1 Preemption | C91: EA | D91: 50719.59 | E91: 42313 | F91: =E91 -> 42313 | G91: 670-5-111 | H91: Current 12 Month Moving Statewide Average (6/01/2025 - 5/31/2026)
A92: =G92 -> 676-2-111 | B92: ITS Cabinet - F&I, Pole, 336 | C92: EA | E92: 14019.5 | F92: =E92 -> 14019.5 | G92: 676-2-111 | H92: Current 12 Month Moving Statewide Average (6/01/2025 - 5/31/2026)
A93: =G93 -> 682-1-113 | B93: ITS CCTV Camera, F&I, Dome Encl - Press | C93: EA | D93: 7548.97 | E93: 7630.85 | F93: =E93 -> 7630.85 | G93: 682-1-113 | H93: Current 12 Month Moving Statewide Average (6/01/2025 - 5/31/2026)
A94: =G94 -> 684-1-1 | B94: Managed Field Ethernet Switch, F&I | C94: EA | D94: 5200 | E94: 8297.26 | F94: =E94 -> 8297.26 | G94: 684-1-1 | H94: Current 12 Month Moving Statewide Average (6/01/2025 - 5/31/2026)
A95: =G95 -> 685-1-13 | B95: Uninterruptible Power Supply, F&I, Line Interactive W Cab | C95: EA | D95: 13141.51 | E95: 13682.06 | F95: =E95 -> 13682.06 | G95: 685-1-13 | H95: Current 12 Month Moving Statewide Average (6/01/2025 - 5/31/2026)
A96: =G96 -> 685-2-1 | B96: RPMU F&I | C96: EA | D96: 1099.78 | E96: 1167.75 | F96: =E96 -> 1167.75 | G96: 685-2-1 | H96: Current 12 Month Moving Statewide Average (6/01/2025 - 5/31/2026)
A97: =G97 -> 700-1-111 | B97: Single Post Sign, F&I Ground Mount, <12 SF | C97: EA | D97: 619.45 | E97: 573.41 | F97: =E97 -> 573.41 | G97: 700-1-111 | H97: Current 12 Month Moving Statewide Average (6/01/2025 - 5/31/2026)
A98: =G98 -> 700-1-112 | B98: Single Post Sign, F&I Ground Mount, 12-20 SF | C98: EA | D98: 1860.33 | E98: 2124.8 | F98: =E98 -> 2124.8 | G98: 700-1-112 | H98: Current 12 Month Moving Statewide Average (6/01/2025 - 5/31/2026)
A99: =G99 -> 700-2-114 | B99: Multi Post Sign, F&I Ground Mount, 31-50 SF | C99: EA | D99: 7546.94 | E99: 7947.83 | F99: =E99 -> 7947.83 | G99: 700-2-114 | H99: Current 12 Month Moving Statewide Average (6/01/2025 - 5/31/2026)
A100: =G100 -> 700-2-115 | B100: Multi Post Sign, F&I Ground Mount, 51-100 SF | C100: EA | D100: 11609.64 | E100: 11398.15 | F100: =E100 -> 11398.15 | G100: 700-2-115 | H100: Current 12 Month Moving Statewide Average (6/01/2025 - 5/31/2026)
A101: =G101 -> 700-2-116 | B101: Multi Post Sign, F&I Ground Mount, 101-200 SF | C101: EA | D101: 19539.78 | E101: 19328.97 | F101: =E101 -> 19328.97 | G101: 700-2-116 | H101: Current 12 Month Moving Statewide Average (6/01/2025 - 5/31/2026)
A102: =G102 -> 700-3-201 | B102: Sign Panel, F&I Overhead Mount, <12 SF | C102: EA | D102: 1055.26 | E102: 1013.53 | F102: =E102 -> 1013.53 | G102: 700-3-201 | H102: Current 12 Month Moving Statewide Average (6/01/2025 - 5/31/2026)
A103: =G103 -> 700-5-11 | B103: Internally Illuminated Sign, F&I Ground Mount, <12 SF | C103: EA | D103: 6500 | E103: 5100 | F103: =E103 -> 5100 | G103: 700-5-11 | H103: Current 12 Month Moving Statewide Average (6/01/2025 - 5/31/2026)
A104: =G104 -> 700-5-22 | B104: Internally Illuminated Sign, F&I Overhead Mount, 12-18 SF | C104: EA | D104: 6323.51 | E104: 5697.03 | F104: =E104 -> 5697.03 | G104: 700-5-22 | H104: Current 12 Month Moving Statewide Average (6/01/2025 - 5/31/2026)
... A111: =G111 -> 711-11-141 | B111: Thermoplastic, Standard, White, Skip 2-4, 6" | C111: GM | D111: 2970.99 | E111: 2868.46 | F111: =E111 -> 2868.46 | G111: 711-11-141 | H111: Current 12 Month Moving Statewide Average (6/01/2025 - 5/31/2026)
A112: =G112 -> 711-11-144 | B112: Thermoplastic, Standard, White, Skip 2-2, 12" | C112: GM | E112: 3534.11 | F112: =E112 -> 3534.11 | G112: 711-11-144 | H112: Current 12 Month Moving Statewide Average (6/01/2025 - 5/31/2026)
A113: =G113 -> 711-11-160 | B113: Thermoplastic, Standard, White, Messages | C113: EA | D113: 194.26 | E113: 185.61 | F113: =E113 -> 185.61 | G113: 711-11-160 | H113: Current 12 Month Moving Statewide Average (6/01/2025 - 5/31/2026)
A114: =G114 -> 711-11-170 | B114: Thermoplastic, Standard, White, Arrows | C114: EA | D114: 85.52 | E114: 87.07 | F114: =E114 -> 87.07 | G114: 711-11-170 | H114: Current 12 Month Moving Statewide Average (6/01/2025 - 5/31/2026)
A115: =G115 -> 711-11-224 | B115: Thermoplastic, Standard, Yellow, Solid 18" | C115: LF | D115: 5.61 | E115: 5.5 | F115: =E115 -> 5.5 | G115: 711-11-224 | H115: Current 12 Month Moving Statewide Average (6/01/2025 - 5/31/2026)
A116: =G116 -> 711-11-241 | B116: Thermoplastic, Standard, Yellow, Skip 2-4, 6" | C116: GM | D116: 3066.54 | E116: 3164.92 | F116: =E116 -> 3164.92 | G116: 711-11-241 | H116: Current 12 Month Moving Statewide Average (6/01/2025 - 5/31/2026)
A117: =G117 -> 711-16-101 | B117: Thermoplastic, Standard, White, Solid 6" | C117: GM | D117: 5541.81 | E117: 5385.34 | F117: =E117 -> 5385.34 | G117: 711-16-101 | H117: Current 12 Month Moving Statewide Average (6/01/2025 - 5/31/2026)
A118: =G118 -> 711-16-131 | B118: Thermoplastic, Standard, White, Skip 10-30, 6" | C118: GM | D118: 1676.46 | E118: 2052.71 | F118: =E118 -> 2052.71 | G118: 711-16-131 | H118: Current 12 Month Moving Statewide Average (6/01/2025 - 5/31/2026)
A119: =G119 -> 711-16-201 | B119: Thermoplastic, Standard, Yellow, Solid 6" | C119: GM | D119: 5451.61 | E119: 5455.22 | F119: =E119 -> 5455.22 | G119: 711-16-201 | H119: Current 12 Month Moving Statewide Average (6/01/2025 - 5/31/2026)
A120: =G120 -> 713-107 | B120: Preformed/Permanent Tape, Remove | C120: SF | D120: 3.27 | E120: 3.99 | F120: =E120 -> 3.99 | G120: 713-107 | H120: Current 12 Month Moving Statewide Average (6/01/2025 - 5/31/2026)
A121: =G121 -> 715-1-13 | B121: Lighting Conductors, F&I, Insulated, No 4-2 | C121: LF | D121: 3.94 | E121: 3.89 | F121: =E121 -> 3.89 | G121: 715-1-13 | H121: Current 12 Month Moving Statewide Average (6/01/2025 - 5/31/2026)
A122: =G122 -> 715-7-12 | B122: Load Center, F&I | C122: EA | D122: 9950 | E122: 9950 | F122: =E122 -> 9950 | G122: 715-7-12 | H122: Current 12 Month Moving Statewide Average (6/01/2025 - 5/31/2026)
A123: =G123 -> 715-61-342 | B123: Light Pole Complete, F&I, 40' Mounting Height, 12' Arm Length | C123: EA | D123: 11229.43 | E123: 8681.28 | F123: =E123 -> 8681.28 | G123: 715-61-342 | H123: Current 12 Month Moving Statewide Average (6/01/2025 - 5/31/2026)
A124: =G124 -> 715-69-000 | B124: Light Pole Complete, Remove Pole and Foundation | C124: EA | D124: 964.93 | E124: 914.6 | F124: =E124 -> 914.6 | G124: 715-69-000 | H124: Current 12 Month Moving Statewide Average (6/01/2025 - 5/31/2026)
A125: =G125 -> 715-550-1 | B125: Pole Cable Distribution System, F&I, Conventional | C125: EA | D125: 850.29 | F125: =D125 -> 850.29 | G125: 715-550-1 | H125: Current 12 Month Moving Areawide Average (6/01/2025 - 5/31/2026)
A126: =G126 -> 0
A127: =G127 -> 0 | B127: Non-Standard Items
A128: =G128 -> 0 | B128: Currux Vission - Midblock Crossing - Pedestrian Monitoring | C128: EA | D128: 40000
B130: Reedy Creek Bridge | C130: SF | D130: 155

Sheet Sheet1
J2: Pond 3 | N2: Pond 4
D3: MISC PVT | J3: Begin | K3: End | L3: LF | N3: Begin | O3: End | P3: LF | Q3: Plus 75' from EOP to pond bottom | U3: Plus 60' from Lt EOP to Rt Eop Crossing
D4: 2400 | I4: LT | J4: 25900 | K4: 30100 | L4: =K4-J4 -> 4200 | N4: 33300 | O4: 34600 | P4: =O4-N4 -> 1300 | S4: Pond 3 L | T4: Pond 3 R | U4: Pond 4 L | V4: Pond 4 R
D5: 2400 | I5: RT | J5: 30500 | K5: 33300 | L5: =K5-J5 -> 2800 | N5: 35000 | O5: 35900 | P5: =O5-N5 -> 900 | R5: 24 | S5: =1700+850+60+1250+60+1100+60 -> 5080 | T5: =1400+1250+60+650+60 -> 3420 | U5: =1000+250+60+250+60 -> 1620 | V5: =250+250+60 -> 560 | X5: =SUM(S5:V5) -> 10680
D6: 2250 | R6: 30 | S6: 1000 | T6: 1100 | U6: 100 | V6: 100 | X6: =SUM(S6:V6) -> 2300
D7: 2250 | R7: 36 | S7: 1000 | T7: 100 | X7: =SUM(S7:V7) -> 1100
D8: 2250 | R8: 42 | S8: 1000 | X8: =SUM(S8:V8) -> 1000
D9: 2250 | R9: 48 | S9: 100 | X9: =SUM(S9:V9) -> 100
D10: 2700 | R10: 60 | X10: =SUM(S10:V10) -> 0
D11: 2400
D12: 2850
D13: 1500
D14: 1200
D15: 1350
D16: 1350
D17: 1800
D18: 2230
D19: 2342
D20: 2550
D21: 2550
D22: 2250
... D30: 2850
D31: =SUM(D4:D30) -> 61572
D32: =D31/(26*300) -> 7.8938462 | F32: low points | G32: 26
G33: =G32*3*2 -> 156
